BEGIN:VCALENDAR
VERSION:2.0
PRODID:-//Landhuus Jenaz - ECPv6.15.20//NONSGML v1.0//EN
CALSCALE:GREGORIAN
METHOD:PUBLISH
X-WR-CALNAME:Landhuus Jenaz
X-ORIGINAL-URL:https://landhuus-jenaz.ch
X-WR-CALDESC:Veranstaltungen für Landhuus Jenaz
REFRESH-INTERVAL;VALUE=DURATION:PT1H
X-Robots-Tag:noindex
X-PUBLISHED-TTL:PT1H
BEGIN:VTIMEZONE
TZID:Europe/Helsinki
BEGIN:DAYLIGHT
TZOFFSETFROM:+0200
TZOFFSETTO:+0300
TZNAME:EEST
DTSTART:20240331T010000
END:DAYLIGHT
BEGIN:STANDARD
TZOFFSETFROM:+0300
TZOFFSETTO:+0200
TZNAME:EET
DTSTART:20241027T010000
END:STANDARD
BEGIN:DAYLIGHT
TZOFFSETFROM:+0200
TZOFFSETTO:+0300
TZNAME:EEST
DTSTART:20250330T010000
END:DAYLIGHT
BEGIN:STANDARD
TZOFFSETFROM:+0300
TZOFFSETTO:+0200
TZNAME:EET
DTSTART:20251026T010000
END:STANDARD
BEGIN:DAYLIGHT
TZOFFSETFROM:+0200
TZOFFSETTO:+0300
TZNAME:EEST
DTSTART:20260329T010000
END:DAYLIGHT
BEGIN:STANDARD
TZOFFSETFROM:+0300
TZOFFSETTO:+0200
TZNAME:EET
DTSTART:20261025T010000
END:STANDARD
BEGIN:DAYLIGHT
TZOFFSETFROM:+0200
TZOFFSETTO:+0300
TZNAME:EEST
DTSTART:20270328T010000
END:DAYLIGHT
BEGIN:STANDARD
TZOFFSETFROM:+0300
TZOFFSETTO:+0200
TZNAME:EET
DTSTART:20271031T010000
END:STANDARD
END:VTIMEZONE
BEGIN:VEVENT
DTSTART;TZID=Europe/Helsinki:20260329T110000
DTEND;TZID=Europe/Helsinki:20260329T180000
DTSTAMP:20260422T024741
CREATED:20260219T093049Z
LAST-MODIFIED:20260219T104456Z
UID:20770-1774782000-1774807200@landhuus-jenaz.ch
SUMMARY:Konfirmationstag
DESCRIPTION:Geniessen Sie diesen festlichen Anlass voller Genuss! Wir bieten Ihnen verschiedene Menüs zur freien Auswahl und würden uns über ein persönliches Gespräch freuen\, damit dieser besondere Tag unvergesslich bleibt. \nBitte melden Sie sich bis zum 15.03.2026 unter 081 350 91 04 oder info@landhuus-jenaz.ch.
URL:https://landhuus-jenaz.ch/event/konfirmationstag/
LOCATION:Landhuus Jenaz\, Hauptstrasse 91\, Jenaz\, 7233\, Switzerland
ATTACH;FMTTYPE=image/jpeg:https://landhuus-jenaz.ch/wp-content/uploads/2026/02/landhuus-jenaz-slider-3.jpg
END:VEVENT
BEGIN:VEVENT
DTSTART;TZID=Europe/Helsinki:20251226T180000
DTEND;TZID=Europe/Helsinki:20251226T220000
DTSTAMP:20260422T024741
CREATED:20251201T140446Z
LAST-MODIFIED:20251201T144120Z
UID:20696-1766772000-1766786400@landhuus-jenaz.ch
SUMMARY:Käsefondue à la discrétion
DESCRIPTION:Geniessen Sie einen festlichen Abend voller Genuss! Wir servieren zartes Fleisch\, frische Beilagen und köstliche Saucen – alles à discrétion. Zur Begrüssung empfangen wir Sie mit einem prickelnden Willkommens-Prosecco. Die Informationen stehen auch als PDF-Download bereit. \nReservieren Sie Ihren Tisch gleich hier online oder rufen Sie uns unter 081 350 91 04 an.
URL:https://landhuus-jenaz.ch/event/kaesefondue-a-la-discretion/
LOCATION:Landhuus Jenaz\, Hauptstrasse 91\, Jenaz\, 7233\, Switzerland
ATTACH;FMTTYPE=image/jpeg:https://landhuus-jenaz.ch/wp-content/uploads/2021/08/landhuus-jenaz-fondue2.jpg
END:VEVENT
BEGIN:VEVENT
DTSTART;TZID=Europe/Helsinki:20251225T180000
DTEND;TZID=Europe/Helsinki:20251225T220000
DTSTAMP:20260422T024741
CREATED:20251201T133636Z
LAST-MODIFIED:20251201T144102Z
UID:20679-1766685600-1766700000@landhuus-jenaz.ch
SUMMARY:Fondue Chinoise à la discrétion
DESCRIPTION:Geniessen Sie einen festlichen Abend voller Genuss! Wir servieren zartes Fleisch\, frische Beilagen und köstliche Saucen – alles à discrétion. Zur Begrüssung empfangen wir Sie mit einem prickelnden Willkommens-Prosecco. Die Informationen stehen auch als PDF-Download bereit. \nReservieren Sie Ihren Tisch gleich hier online oder rufen Sie uns unter 081 350 91 04 an.
URL:https://landhuus-jenaz.ch/event/fondue-chinoise-a-la-discretion/
LOCATION:Landhuus Jenaz\, Hauptstrasse 91\, Jenaz\, 7233\, Switzerland
ATTACH;FMTTYPE=image/jpeg:https://landhuus-jenaz.ch/wp-content/uploads/2025/12/landhuus-jenaz-fondue1.jpg
END:VEVENT
END:VCALENDAR